BEGIN:VCALENDAR
VERSION:2.0
PRODID:-//Tukwila Homeowners Association - ECPv6.3.1//NONSGML v1.0//EN
CALSCALE:GREGORIAN
METHOD:PUBLISH
X-WR-CALNAME:Tukwila Homeowners Association
X-ORIGINAL-URL:https://tukwilahoa.com
X-WR-CALDESC:Events for Tukwila Homeowners Association
REFRESH-INTERVAL;VALUE=DURATION:PT1H
X-Robots-Tag:noindex
X-PUBLISHED-TTL:PT1H
BEGIN:VTIMEZONE
TZID:America/Los_Angeles
BEGIN:DAYLIGHT
TZOFFSETFROM:-0800
TZOFFSETTO:-0700
TZNAME:PDT
DTSTART:20260308T100000
END:DAYLIGHT
BEGIN:STANDARD
TZOFFSETFROM:-0700
TZOFFSETTO:-0800
TZNAME:PST
DTSTART:20261101T090000
END:STANDARD
END:VTIMEZONE
BEGIN:VEVENT
DTSTART;VALUE=DATE:20260507
DTEND;VALUE=DATE:20260508
DTSTAMP:20260421T201353
CREATED:20260224T181936Z
LAST-MODIFIED:20260224T181936Z
UID:12205-1778112000-1778198399@tukwilahoa.com
SUMMARY:Rec Center Reserved
DESCRIPTION:
URL:https://tukwilahoa.com/events/rec-center-reserved-272/
CATEGORIES:Rec Center Reservation
END:VEVENT
BEGIN:VEVENT
DTSTART;VALUE=DATE:20260513
DTEND;VALUE=DATE:20260514
DTSTAMP:20260421T201353
CREATED:20251215T215749Z
LAST-MODIFIED:20251215T215749Z
UID:11990-1778630400-1778716799@tukwilahoa.com
SUMMARY:Rec Center Reserved
DESCRIPTION:
URL:https://tukwilahoa.com/events/rec-center-reserved-240/
CATEGORIES:HOA Meeting,Rec Center Reservation
END:VEVENT
BEGIN:VEVENT
DTSTART;TZID=America/Los_Angeles:20260513T080000
DTEND;TZID=America/Los_Angeles:20260513T170000
DTSTAMP:20260421T201353
CREATED:20251215T215853Z
LAST-MODIFIED:20251215T215853Z
UID:11994-1778659200-1778691600@tukwilahoa.com
SUMMARY:Rec Center Reserved
DESCRIPTION:
URL:https://tukwilahoa.com/events/rec-center-reserved-242/
CATEGORIES:HOA Meeting,Rec Center Reservation
END:VEVENT
BEGIN:VEVENT
DTSTART;TZID=America/Los_Angeles:20260513T180000
DTEND;TZID=America/Los_Angeles:20260513T193000
DTSTAMP:20260421T201353
CREATED:20260414T162852Z
LAST-MODIFIED:20260414T162852Z
UID:12301-1778695200-1778700600@tukwilahoa.com
SUMMARY:Miller Farm HOA Board Mtg
DESCRIPTION:
URL:https://tukwilahoa.com/events/miller-farm-hoa-board-mtg-2/
LOCATION:THOA Rec Center
CATEGORIES:HOA Meeting,Rec Center Reservation
END:VEVENT
BEGIN:VEVENT
DTSTART;VALUE=DATE:20260517
DTEND;VALUE=DATE:20260518
DTSTAMP:20260421T201353
CREATED:20260220T200601Z
LAST-MODIFIED:20260220T200601Z
UID:12160-1778976000-1779062399@tukwilahoa.com
SUMMARY:Rec Center Reserved
DESCRIPTION:Re
URL:https://tukwilahoa.com/events/rec-center-reserved-269/
CATEGORIES:Rec Center Reservation
END:VEVENT
BEGIN:VEVENT
DTSTART;VALUE=DATE:20260525
DTEND;VALUE=DATE:20260526
DTSTAMP:20260421T201353
CREATED:20251231T193345Z
LAST-MODIFIED:20251231T193345Z
UID:12028-1779667200-1779753599@tukwilahoa.com
SUMMARY:THOA Office Closed - Memorial Day
DESCRIPTION:
URL:https://tukwilahoa.com/events/thoa-office-closed-memorial-day/
CATEGORIES:Community Event
END:VEVENT
BEGIN:VEVENT
DTSTART;TZID=America/Los_Angeles:20260527T143000
DTEND;TZID=America/Los_Angeles:20260527T160000
DTSTAMP:20260421T201353
CREATED:20260217T195602Z
LAST-MODIFIED:20260317T195155Z
UID:12140-1779892200-1779897600@tukwilahoa.com
SUMMARY:THOA Board Mtg
DESCRIPTION:
URL:https://tukwilahoa.com/events/thoa-board-mtg-13/
CATEGORIES:HOA Meeting,Rec Center Reservation
END:VEVENT
BEGIN:VEVENT
DTSTART;TZID=America/Los_Angeles:20260528T140000
DTEND;TZID=America/Los_Angeles:20260528T153000
DTSTAMP:20260421T201353
CREATED:20260414T163221Z
LAST-MODIFIED:20260414T163221Z
UID:12308-1779976800-1779982200@tukwilahoa.com
SUMMARY:Links @ Tukwila HOA Board Mtg
DESCRIPTION:Links A
URL:https://tukwilahoa.com/events/links-tukwila-hoa-board-mtg-3/
CATEGORIES:HOA Meeting,Rec Center Reservation
END:VEVENT
BEGIN:VEVENT
DTSTART;TZID=America/Los_Angeles:20260528T140000
DTEND;TZID=America/Los_Angeles:20260528T160000
DTSTAMP:20260421T201353
CREATED:20260317T200113Z
LAST-MODIFIED:20260317T200113Z
UID:12255-1779976800-1779984000@tukwilahoa.com
SUMMARY:Links @ Tukwila HOA Board Mtg
DESCRIPTION:
URL:https://tukwilahoa.com/events/links-tukwila-hoa-board-mtg-2/
CATEGORIES:HOA Meeting,Rec Center Reservation
END:VEVENT
BEGIN:VEVENT
DTSTART;VALUE=DATE:20260530
DTEND;VALUE=DATE:20260531
DTSTAMP:20260421T201353
CREATED:20260305T184558Z
LAST-MODIFIED:20260305T184558Z
UID:12244-1780099200-1780185599@tukwilahoa.com
SUMMARY:Rec Center Reserved
DESCRIPTION:
URL:https://tukwilahoa.com/events/rec-center-reserved-274/
CATEGORIES:Rec Center Reservation
END:VEVENT
BEGIN:VEVENT
DTSTART;VALUE=DATE:20260531
DTEND;VALUE=DATE:20260601
DTSTAMP:20260421T201353
CREATED:20260112T183744Z
LAST-MODIFIED:20260309T185322Z
UID:12071-1780185600-1780271999@tukwilahoa.com
SUMMARY:Rec Center Reserved
DESCRIPTION:
URL:https://tukwilahoa.com/events/rec-center-reserved-254/
CATEGORIES:Rec Center Reservation
END:VEVENT
END:VCALENDAR