BEGIN:VCALENDAR
VERSION:2.0
PRODID:-//Tukwila Homeowners Association - ECPv6.3.1//NONSGML v1.0//EN
CALSCALE:GREGORIAN
METHOD:PUBLISH
X-WR-CALNAME:Tukwila Homeowners Association
X-ORIGINAL-URL:https://tukwilahoa.com
X-WR-CALDESC:Events for Tukwila Homeowners Association
REFRESH-INTERVAL;VALUE=DURATION:PT1H
X-Robots-Tag:noindex
X-PUBLISHED-TTL:PT1H
BEGIN:VTIMEZONE
TZID:America/Los_Angeles
BEGIN:DAYLIGHT
TZOFFSETFROM:-0800
TZOFFSETTO:-0700
TZNAME:PDT
DTSTART:20260308T100000
END:DAYLIGHT
BEGIN:STANDARD
TZOFFSETFROM:-0700
TZOFFSETTO:-0800
TZNAME:PST
DTSTART:20261101T090000
END:STANDARD
END:VTIMEZONE
BEGIN:VEVENT
DTSTART;VALUE=DATE:20260311
DTEND;VALUE=DATE:20260312
DTSTAMP:20260421T143742
CREATED:20251215T215657Z
LAST-MODIFIED:20251215T215657Z
UID:11986-1773187200-1773273599@tukwilahoa.com
SUMMARY:Rec Center Reserved
DESCRIPTION:
URL:https://tukwilahoa.com/events/rec-center-reserved-238/
CATEGORIES:HOA Meeting,Rec Center Reservation
END:VEVENT
BEGIN:VEVENT
DTSTART;TZID=America/Los_Angeles:20260311T180000
DTEND;TZID=America/Los_Angeles:20260311T200000
DTSTAMP:20260421T143742
CREATED:20251215T220353Z
LAST-MODIFIED:20251215T220353Z
UID:12012-1773252000-1773259200@tukwilahoa.com
SUMMARY:MFHOA Board Mtg
DESCRIPTION:
URL:https://tukwilahoa.com/events/mfhoa-board-mtg-8/
CATEGORIES:HOA Meeting
END:VEVENT
BEGIN:VEVENT
DTSTART;VALUE=DATE:20260312
DTEND;VALUE=DATE:20260313
DTSTAMP:20260421T143742
CREATED:20251215T212710Z
LAST-MODIFIED:20251215T212710Z
UID:11981-1773273600-1773359999@tukwilahoa.com
SUMMARY:Rec Center Reserved
DESCRIPTION:
URL:https://tukwilahoa.com/events/rec-center-reserved-236/
CATEGORIES:Rec Center Reservation
END:VEVENT
BEGIN:VEVENT
DTSTART;VALUE=DATE:20260314
DTEND;VALUE=DATE:20260315
DTSTAMP:20260421T143742
CREATED:20260128T213118Z
LAST-MODIFIED:20260128T213118Z
UID:12114-1773446400-1773532799@tukwilahoa.com
SUMMARY:Rec Center Reserved
DESCRIPTION:
URL:https://tukwilahoa.com/events/rec-center-reserved-264/
CATEGORIES:Rec Center Reservation
END:VEVENT
BEGIN:VEVENT
DTSTART;TZID=America/Los_Angeles:20260316T180000
DTEND;TZID=America/Los_Angeles:20260316T190000
DTSTAMP:20260421T143742
CREATED:20260226T213718Z
LAST-MODIFIED:20260226T213718Z
UID:12216-1773684000-1773687600@tukwilahoa.com
SUMMARY:Renaissance Reserve Board Mtg
DESCRIPTION:
URL:https://tukwilahoa.com/events/renaissance-reserve-board-mtg-2/
CATEGORIES:HOA Meeting
END:VEVENT
BEGIN:VEVENT
DTSTART;VALUE=DATE:20260321
DTEND;VALUE=DATE:20260322
DTSTAMP:20260421T143742
CREATED:20260128T213148Z
LAST-MODIFIED:20260128T213148Z
UID:12116-1774051200-1774137599@tukwilahoa.com
SUMMARY:Rec Center Reserved
DESCRIPTION:
URL:https://tukwilahoa.com/events/rec-center-reserved-265/
CATEGORIES:Rec Center Reservation
END:VEVENT
BEGIN:VEVENT
DTSTART;TZID=America/Los_Angeles:20260324T143000
DTEND;TZID=America/Los_Angeles:20260324T160000
DTSTAMP:20260421T143742
CREATED:20260217T195440Z
LAST-MODIFIED:20260217T200105Z
UID:12136-1774362600-1774368000@tukwilahoa.com
SUMMARY:THOA Board Mtg
DESCRIPTION:
URL:https://tukwilahoa.com/events/thoa-board-mtg-11/
END:VEVENT
BEGIN:VEVENT
DTSTART;VALUE=DATE:20260326
DTEND;VALUE=DATE:20260328
DTSTAMP:20260421T143742
CREATED:20260220T191054Z
LAST-MODIFIED:20260220T191054Z
UID:12158-1774483200-1774655999@tukwilahoa.com
SUMMARY:Rec Center Reserved
DESCRIPTION:
URL:https://tukwilahoa.com/events/rec-center-reserved-268/
CATEGORIES:Rec Center Reservation
END:VEVENT
BEGIN:VEVENT
DTSTART;VALUE=DATE:20260328
DTEND;VALUE=DATE:20260329
DTSTAMP:20260421T143742
CREATED:20260129T185450Z
LAST-MODIFIED:20260129T185450Z
UID:12118-1774656000-1774742399@tukwilahoa.com
SUMMARY:Rec Center Reserved
DESCRIPTION:Rec Center Reserved
URL:https://tukwilahoa.com/events/rec-center-reserved-266/
END:VEVENT
BEGIN:VEVENT
DTSTART;VALUE=DATE:20260329
DTEND;VALUE=DATE:20260330
DTSTAMP:20260421T143742
CREATED:20260112T183651Z
LAST-MODIFIED:20260309T185123Z
UID:12067-1774742400-1774828799@tukwilahoa.com
SUMMARY:Rec Center Reserved
DESCRIPTION:
URL:https://tukwilahoa.com/events/rec-center-reserved-252/
CATEGORIES:Rec Center Reservation
END:VEVENT
END:VCALENDAR