BEGIN:VCALENDAR
VERSION:2.0
PRODID:-//Tukwila Homeowners Association - ECPv6.3.1//NONSGML v1.0//EN
CALSCALE:GREGORIAN
METHOD:PUBLISH
X-WR-CALNAME:Tukwila Homeowners Association
X-ORIGINAL-URL:https://tukwilahoa.com
X-WR-CALDESC:Events for Tukwila Homeowners Association
REFRESH-INTERVAL;VALUE=DURATION:PT1H
X-Robots-Tag:noindex
X-PUBLISHED-TTL:PT1H
BEGIN:VTIMEZONE
TZID:America/Los_Angeles
BEGIN:DAYLIGHT
TZOFFSETFROM:-0800
TZOFFSETTO:-0700
TZNAME:PDT
DTSTART:20250309T100000
END:DAYLIGHT
BEGIN:STANDARD
TZOFFSETFROM:-0700
TZOFFSETTO:-0800
TZNAME:PST
DTSTART:20251102T090000
END:STANDARD
BEGIN:DAYLIGHT
TZOFFSETFROM:-0800
TZOFFSETTO:-0700
TZNAME:PDT
DTSTART:20260308T100000
END:DAYLIGHT
BEGIN:STANDARD
TZOFFSETFROM:-0700
TZOFFSETTO:-0800
TZNAME:PST
DTSTART:20261101T090000
END:STANDARD
END:VTIMEZONE
BEGIN:VEVENT
DTSTART;VALUE=DATE:20251231
DTEND;VALUE=DATE:20260102
DTSTAMP:20260421T105827
CREATED:20251231T193004Z
LAST-MODIFIED:20251231T193004Z
UID:12026-1767139200-1767311999@tukwilahoa.com
SUMMARY:THOA Office Closed - New Years Holiday
DESCRIPTION:
URL:https://tukwilahoa.com/events/thoa-office-closed-new-years-holiday/
CATEGORIES:Community Event
END:VEVENT
BEGIN:VEVENT
DTSTART;VALUE=DATE:20260108
DTEND;VALUE=DATE:20260109
DTSTAMP:20260421T105827
CREATED:20251215T212627Z
LAST-MODIFIED:20251215T212627Z
UID:11977-1767830400-1767916799@tukwilahoa.com
SUMMARY:Rec Center Reserved
DESCRIPTION:
URL:https://tukwilahoa.com/events/rec-center-reserved-234/
CATEGORIES:Rec Center Reservation
END:VEVENT
BEGIN:VEVENT
DTSTART;TZID=America/Los_Angeles:20260114T180000
DTEND;TZID=America/Los_Angeles:20260114T200000
DTSTAMP:20260421T105827
CREATED:20251215T220130Z
LAST-MODIFIED:20251215T220242Z
UID:12006-1768413600-1768420800@tukwilahoa.com
SUMMARY:MFHOA Board Mtg
DESCRIPTION:
URL:https://tukwilahoa.com/events/rec-center-reserved-248/
CATEGORIES:HOA Meeting
END:VEVENT
BEGIN:VEVENT
DTSTART;VALUE=DATE:20260116
DTEND;VALUE=DATE:20260117
DTSTAMP:20260421T105827
CREATED:20260112T192248Z
LAST-MODIFIED:20260112T192248Z
UID:12087-1768521600-1768607999@tukwilahoa.com
SUMMARY:Rec Center Reserved
DESCRIPTION:
URL:https://tukwilahoa.com/events/rec-center-reserved-262/
END:VEVENT
BEGIN:VEVENT
DTSTART;VALUE=DATE:20260117
DTEND;VALUE=DATE:20260118
DTSTAMP:20260421T105827
CREATED:20260107T212655Z
LAST-MODIFIED:20260107T212655Z
UID:12059-1768608000-1768694399@tukwilahoa.com
SUMMARY:Rec Center Reserved
DESCRIPTION:
URL:https://tukwilahoa.com/events/rec-center-reserved-249/
CATEGORIES:Rec Center Reservation
END:VEVENT
BEGIN:VEVENT
DTSTART;TZID=America/Los_Angeles:20260122T130000
DTEND;TZID=America/Los_Angeles:20260122T150000
DTSTAMP:20260421T105827
CREATED:20260107T212837Z
LAST-MODIFIED:20260107T212837Z
UID:12061-1769086800-1769094000@tukwilahoa.com
SUMMARY:GHHOA Board Mtg
DESCRIPTION:
URL:https://tukwilahoa.com/events/ghhoa-board-mtg-2/
CATEGORIES:HOA Meeting,Rec Center Reservation
END:VEVENT
BEGIN:VEVENT
DTSTART;VALUE=DATE:20260125
DTEND;VALUE=DATE:20260126
DTSTAMP:20260421T105827
CREATED:20260112T182119Z
LAST-MODIFIED:20260112T182119Z
UID:12063-1769299200-1769385599@tukwilahoa.com
SUMMARY:Rec Center Reserved
DESCRIPTION:
URL:https://tukwilahoa.com/events/rec-center-reserved-250/
END:VEVENT
END:VCALENDAR