BEGIN:VCALENDAR
VERSION:2.0
PRODID:-//Tukwila Homeowners Association - ECPv6.3.1//NONSGML v1.0//EN
CALSCALE:GREGORIAN
METHOD:PUBLISH
X-WR-CALNAME:Tukwila Homeowners Association
X-ORIGINAL-URL:https://tukwilahoa.com
X-WR-CALDESC:Events for Tukwila Homeowners Association
REFRESH-INTERVAL;VALUE=DURATION:PT1H
X-Robots-Tag:noindex
X-PUBLISHED-TTL:PT1H
BEGIN:VTIMEZONE
TZID:America/Los_Angeles
BEGIN:DAYLIGHT
TZOFFSETFROM:-0800
TZOFFSETTO:-0700
TZNAME:PDT
DTSTART:20250309T100000
END:DAYLIGHT
BEGIN:STANDARD
TZOFFSETFROM:-0700
TZOFFSETTO:-0800
TZNAME:PST
DTSTART:20251102T090000
END:STANDARD
END:VTIMEZONE
BEGIN:VEVENT
DTSTART;VALUE=DATE:20251031
DTEND;VALUE=DATE:20251103
DTSTAMP:20260421T035437
CREATED:20250930T190539Z
LAST-MODIFIED:20250930T190539Z
UID:11781-1761868800-1762127999@tukwilahoa.com
SUMMARY:Rec Center Reserved
DESCRIPTION:  \nr
URL:https://tukwilahoa.com/events/rec-center-reserved-224/
CATEGORIES:Rec Center Reservation
END:VEVENT
BEGIN:VEVENT
DTSTART;VALUE=DATE:20251108
DTEND;VALUE=DATE:20251109
DTSTAMP:20260421T035437
CREATED:20250909T164833Z
LAST-MODIFIED:20250909T164833Z
UID:11760-1762560000-1762646399@tukwilahoa.com
SUMMARY:Rec Center Reserved
DESCRIPTION:
URL:https://tukwilahoa.com/events/rec-center-reserved-222/
CATEGORIES:Rec Center Reservation
END:VEVENT
BEGIN:VEVENT
DTSTART;TZID=America/Los_Angeles:20251112T180000
DTEND;TZID=America/Los_Angeles:20251112T200000
DTSTAMP:20260421T035437
CREATED:20250813T202614Z
LAST-MODIFIED:20250813T202614Z
UID:11696-1762970400-1762977600@tukwilahoa.com
SUMMARY:MFHOA Board Mtg
DESCRIPTION:
URL:https://tukwilahoa.com/events/mfhoa-board-mtg-5/
CATEGORIES:HOA Meeting,Rec Center Reservation
END:VEVENT
BEGIN:VEVENT
DTSTART;VALUE=DATE:20251113
DTEND;VALUE=DATE:20251114
DTSTAMP:20260421T035437
CREATED:20250815T203843Z
LAST-MODIFIED:20250815T203843Z
UID:11702-1762992000-1763078399@tukwilahoa.com
SUMMARY:Rec Center Reserved
DESCRIPTION:
URL:https://tukwilahoa.com/events/rec-center-reserved-220/
CATEGORIES:Rec Center Reservation
END:VEVENT
BEGIN:VEVENT
DTSTART;VALUE=DATE:20251115
DTEND;VALUE=DATE:20251116
DTSTAMP:20260421T035437
CREATED:20250801T191430Z
LAST-MODIFIED:20250801T191430Z
UID:11615-1763164800-1763251199@tukwilahoa.com
SUMMARY:Rec Center Reserved
DESCRIPTION:
URL:https://tukwilahoa.com/events/rec-center-reserved-216/
CATEGORIES:Rec Center Reservation
END:VEVENT
BEGIN:VEVENT
DTSTART;VALUE=DATE:20251121
DTEND;VALUE=DATE:20251122
DTSTAMP:20260421T035437
CREATED:20251024T202944Z
LAST-MODIFIED:20251024T202944Z
UID:11839-1763683200-1763769599@tukwilahoa.com
SUMMARY:Rec Center Reserved
DESCRIPTION:
URL:https://tukwilahoa.com/events/rec-center-reserved-227/
CATEGORIES:Rec Center Reservation
END:VEVENT
BEGIN:VEVENT
DTSTART;VALUE=DATE:20251123
DTEND;VALUE=DATE:20251124
DTSTAMP:20260421T035437
CREATED:20251110T185925Z
LAST-MODIFIED:20251110T185925Z
UID:11925-1763856000-1763942399@tukwilahoa.com
SUMMARY:Rec Center Reserved
DESCRIPTION:
URL:https://tukwilahoa.com/events/rec-center-reserved-230/
CATEGORIES:Rec Center Reservation
END:VEVENT
BEGIN:VEVENT
DTSTART;VALUE=DATE:20251127
DTEND;VALUE=DATE:20251129
DTSTAMP:20260421T035437
CREATED:20250415T201342Z
LAST-MODIFIED:20250415T201342Z
UID:11197-1764201600-1764374399@tukwilahoa.com
SUMMARY:Office Closed - Thanksgiving
DESCRIPTION:
URL:https://tukwilahoa.com/events/office-closed-thanksgiving/
CATEGORIES:Community Event
END:VEVENT
BEGIN:VEVENT
DTSTART;VALUE=DATE:20251130
DTEND;VALUE=DATE:20251201
DTSTAMP:20260421T035437
CREATED:20241104T220456Z
LAST-MODIFIED:20241104T220456Z
UID:10796-1764460800-1764547199@tukwilahoa.com
SUMMARY:Rec Center Reserved
DESCRIPTION:
URL:https://tukwilahoa.com/events/rec-center-reserved-172/
CATEGORIES:Rec Center Reservation
END:VEVENT
END:VCALENDAR