BEGIN:VCALENDAR
VERSION:2.0
PRODID:-//Tukwila Homeowners Association - ECPv6.3.1//NONSGML v1.0//EN
CALSCALE:GREGORIAN
METHOD:PUBLISH
X-WR-CALNAME:Tukwila Homeowners Association
X-ORIGINAL-URL:https://tukwilahoa.com
X-WR-CALDESC:Events for Tukwila Homeowners Association
REFRESH-INTERVAL;VALUE=DURATION:PT1H
X-Robots-Tag:noindex
X-PUBLISHED-TTL:PT1H
BEGIN:VTIMEZONE
TZID:America/Los_Angeles
BEGIN:DAYLIGHT
TZOFFSETFROM:-0800
TZOFFSETTO:-0700
TZNAME:PDT
DTSTART:20250309T100000
END:DAYLIGHT
BEGIN:STANDARD
TZOFFSETFROM:-0700
TZOFFSETTO:-0800
TZNAME:PST
DTSTART:20251102T090000
END:STANDARD
END:VTIMEZONE
BEGIN:VEVENT
DTSTART;VALUE=DATE:20251006
DTEND;VALUE=DATE:20251007
DTSTAMP:20260423T020200
CREATED:20250224T190412Z
LAST-MODIFIED:20250224T190412Z
UID:11097-1759708800-1759795199@tukwilahoa.com
SUMMARY:Rec Center Reserved
DESCRIPTION:
URL:https://tukwilahoa.com/events/rec-center-reserved-188/
CATEGORIES:Rec Center Reservation
END:VEVENT
BEGIN:VEVENT
DTSTART;TZID=America/Los_Angeles:20251008T180000
DTEND;TZID=America/Los_Angeles:20251008T200000
DTSTAMP:20260423T020200
CREATED:20250813T202146Z
LAST-MODIFIED:20250813T202146Z
UID:11694-1759946400-1759953600@tukwilahoa.com
SUMMARY:MFHOA Board Mtg
DESCRIPTION:
URL:https://tukwilahoa.com/events/mfhoa-board-mtg-4/
CATEGORIES:HOA Meeting,Rec Center Reservation
END:VEVENT
BEGIN:VEVENT
DTSTART;VALUE=DATE:20251010
DTEND;VALUE=DATE:20251012
DTSTAMP:20260423T020200
CREATED:20250827T182052Z
LAST-MODIFIED:20250827T182052Z
UID:11739-1760054400-1760227199@tukwilahoa.com
SUMMARY:Rec Center Reserved
DESCRIPTION:
URL:https://tukwilahoa.com/events/rec-center-reserved-221/
CATEGORIES:Rec Center Reservation
END:VEVENT
BEGIN:VEVENT
DTSTART;VALUE=DATE:20251012
DTEND;VALUE=DATE:20251013
DTSTAMP:20260423T020200
CREATED:20250911T183446Z
LAST-MODIFIED:20250911T183446Z
UID:11767-1760227200-1760313599@tukwilahoa.com
SUMMARY:Rec Center Reserved
DESCRIPTION:
URL:https://tukwilahoa.com/events/rec-center-reserved-223/
CATEGORIES:Rec Center Reservation
END:VEVENT
BEGIN:VEVENT
DTSTART;TZID=America/Los_Angeles:20251014T190000
DTEND;TZID=America/Los_Angeles:20251014T210000
DTSTAMP:20260423T020200
CREATED:20250930T174703Z
LAST-MODIFIED:20250930T174703Z
UID:11775-1760468400-1760475600@tukwilahoa.com
SUMMARY:GHHOA Board Mtg
DESCRIPTION:
URL:https://tukwilahoa.com/events/ghhoa-board-mtg/
END:VEVENT
BEGIN:VEVENT
DTSTART;VALUE=DATE:20251025
DTEND;VALUE=DATE:20251026
DTSTAMP:20260423T020200
CREATED:20250811T205132Z
LAST-MODIFIED:20250811T205132Z
UID:11687-1761350400-1761436799@tukwilahoa.com
SUMMARY:Rec Center Reserved
DESCRIPTION:
URL:https://tukwilahoa.com/events/rec-center-reserved-218/
CATEGORIES:Rec Center Reservation
END:VEVENT
BEGIN:VEVENT
DTSTART;VALUE=DATE:20251026
DTEND;VALUE=DATE:20251027
DTSTAMP:20260423T020200
CREATED:20241104T220432Z
LAST-MODIFIED:20241104T220432Z
UID:10794-1761436800-1761523199@tukwilahoa.com
SUMMARY:Rec Center Reserved
DESCRIPTION:
URL:https://tukwilahoa.com/events/rec-center-reserved-171/
CATEGORIES:Rec Center Reservation
END:VEVENT
BEGIN:VEVENT
DTSTART;TZID=America/Los_Angeles:20251028T180000
DTEND;TZID=America/Los_Angeles:20251028T200000
DTSTAMP:20260423T020200
CREATED:20251006T185408Z
LAST-MODIFIED:20251006T185408Z
UID:11784-1761674400-1761681600@tukwilahoa.com
SUMMARY:THOA 2025 Annual Homeowner's Mtg
DESCRIPTION:
URL:https://tukwilahoa.com/events/thoa-2025-annual-homeowners-mtg/
LOCATION:OGA – Orchards Grill
CATEGORIES:HOA Meeting
END:VEVENT
BEGIN:VEVENT
DTSTART;TZID=America/Los_Angeles:20251029T170000
DTEND;TZID=America/Los_Angeles:20251029T180000
DTSTAMP:20260423T020200
CREATED:20251008T190637Z
LAST-MODIFIED:20251008T190637Z
UID:11790-1761757200-1761760800@tukwilahoa.com
SUMMARY:OGHOA Board Mtg
DESCRIPTION:
URL:https://tukwilahoa.com/events/oghoa-board-mtg/
CATEGORIES:HOA Meeting,Rec Center Reservation
END:VEVENT
BEGIN:VEVENT
DTSTART;VALUE=DATE:20251031
DTEND;VALUE=DATE:20251103
DTSTAMP:20260423T020200
CREATED:20250930T190539Z
LAST-MODIFIED:20250930T190539Z
UID:11781-1761868800-1762127999@tukwilahoa.com
SUMMARY:Rec Center Reserved
DESCRIPTION:  \nr
URL:https://tukwilahoa.com/events/rec-center-reserved-224/
CATEGORIES:Rec Center Reservation
END:VEVENT
END:VCALENDAR